BEGIN:VCALENDAR
VERSION:2.0
PRODID:spatie/icalendar-generator
DESCRIPTION:まちづくり府中のイベント
X-WR-CALDESC:まちづくり府中のイベント
REFRESH-INTERVAL;VALUE=DURATION:PT1440M
X-PUBLISHED-TTL:PT1440M
BEGIN:VTIMEZONE
TZID:Asia/Tokyo
BEGIN:STANDARD
DTSTART:20180227T103000Z
TZOFFSETFROM:+0900
TZOFFSETTO:+0900
END:STANDARD
END:VTIMEZONE
BEGIN:VTIMEZONE
TZID:UTC
BEGIN:STANDARD
DTSTART:20250729T185036Z
TZOFFSETFROM:+0000
TZOFFSETTO:+0000
END:STANDARD
END:VTIMEZONE
BEGIN:VEVENT
UID:319-110
DTSTAMP:20260425T185036Z
SUMMARY:国司館と家康御殿史跡広場オープニングイベント
LOCATION:
ORGANIZER;CN=machif:MAILTO:machidukuri_fuchu@nifty.com
DTSTART;TZID=Asia/Tokyo:20181124T103000
DTEND;TZID=Asia/Tokyo:20181124T153000
X-ALT-DESC;FMTTYPE=TEXT/HTML:
CATEGORIES:けやき並木通り
URL;VALUE=URI:https://machidukuri-fuchu.jp/mc-events/%e5%9b%bd%e5%8f%b8%e9%
 a4%a8%e3%81%a8%e5%ae%b6%e5%ba%b7%e5%be%a1%e6%ae%bf%e5%8f%b2%e8%b7%a1%e5%ba
 %83%e5%a0%b4%e3%82%aa%e3%83%bc%e3%83%97%e3%83%8b%e3%83%b3%e3%82%b0%e3%82%a
 4%e3%83%99%e3%83%b3%e3%83%88/
METHOD:PUBLISH
END:VEVENT
END:VCALENDAR