BEGIN:VCALENDAR
VERSION:2.0
PRODID:spatie/icalendar-generator
DESCRIPTION:まちづくり府中のイベント
X-WR-CALDESC:まちづくり府中のイベント
REFRESH-INTERVAL;VALUE=DURATION:PT1440M
X-PUBLISHED-TTL:PT1440M
BEGIN:VTIMEZONE
TZID:Asia/Tokyo
BEGIN:STANDARD
DTSTART:20181121T120000Z
TZOFFSETFROM:+0900
TZOFFSETTO:+0900
END:STANDARD
END:VTIMEZONE
BEGIN:VTIMEZONE
TZID:UTC
BEGIN:STANDARD
DTSTART:20250730T010717Z
TZOFFSETFROM:+0000
TZOFFSETTO:+0000
END:STANDARD
END:VTIMEZONE
BEGIN:VEVENT
UID:330-121
DTSTAMP:20260426T010717Z
SUMMARY:府中市ホストタウンフェスティバル
LOCATION:
ORGANIZER;CN=machif:MAILTO:machidukuri_fuchu@nifty.com
DTSTART;TZID=Asia/Tokyo:20190818T120000
DTEND;TZID=Asia/Tokyo:20190818T170000
X-ALT-DESC;FMTTYPE=TEXT/HTML:
CATEGORIES:けやき並木通り
URL;VALUE=URI:https://machidukuri-fuchu.jp/mc-events/%e5%ba%9c%e4%b8%ad%e5%
 b8%82%e3%83%9b%e3%82%b9%e3%83%88%e3%82%bf%e3%82%a6%e3%83%b3%e3%83%95%e3%82
 %a7%e3%82%b9%e3%83%86%e3%82%a3%e3%83%90%e3%83%ab/
METHOD:PUBLISH
END:VEVENT
END:VCALENDAR