BEGIN:VCALENDAR
VERSION:2.0
PRODID:spatie/icalendar-generator
DESCRIPTION:まちづくり府中のイベント
X-WR-CALDESC:まちづくり府中のイベント
REFRESH-INTERVAL;VALUE=DURATION:PT1440M
X-PUBLISHED-TTL:PT1440M
BEGIN:VTIMEZONE
TZID:Asia/Tokyo
BEGIN:STANDARD
DTSTART:20181211T100000Z
TZOFFSETFROM:+0900
TZOFFSETTO:+0900
END:STANDARD
END:VTIMEZONE
BEGIN:VTIMEZONE
TZID:UTC
BEGIN:STANDARD
DTSTART:20250726T110329Z
TZOFFSETFROM:+0000
TZOFFSETTO:+0000
END:STANDARD
END:VTIMEZONE
BEGIN:VEVENT
UID:343-134
DTSTAMP:20260422T110329Z
SUMMARY:第8回ほっとハート(府中市・多摩市・調布市障が
 い福祉施設等オリジナル製品販売会)
LOCATION:
ORGANIZER;CN=machif:MAILTO:machidukuri_fuchu@nifty.com
DTSTART;TZID=Asia/Tokyo:20190907T100000
DTEND;TZID=Asia/Tokyo:20190907T160000
X-ALT-DESC;FMTTYPE=TEXT/HTML:
CATEGORIES:けやき並木通り
URL;VALUE=URI:https://machidukuri-fuchu.jp/mc-events/%e7%ac%ac8%e5%9b%9e%e3
 %81%bb%e3%81%a3%e3%81%a8%e3%83%8f%e3%83%bc%e3%83%88%e5%ba%9c%e4%b8%ad%e5%b
 8%82%e3%83%bb%e5%a4%9a%e6%91%a9%e5%b8%82%e3%83%bb%e8%aa%bf%e5%b8%83%e5%b8%
 82%e9%9a%9c%e3%81%8c%e3%81%84/
METHOD:PUBLISH
END:VEVENT
END:VCALENDAR