BEGIN:VCALENDAR
VERSION:2.0
PRODID:spatie/icalendar-generator
DESCRIPTION:まちづくり府中のイベント
X-WR-CALDESC:まちづくり府中のイベント
REFRESH-INTERVAL;VALUE=DURATION:PT1440M
X-PUBLISHED-TTL:PT1440M
BEGIN:VTIMEZONE
TZID:Asia/Tokyo
BEGIN:STANDARD
DTSTART:20240110T000000Z
TZOFFSETFROM:+0900
TZOFFSETTO:+0900
END:STANDARD
END:VTIMEZONE
BEGIN:VTIMEZONE
TZID:UTC
BEGIN:STANDARD
DTSTART:20250728T145702Z
TZOFFSETFROM:+0000
TZOFFSETTO:+0000
END:STANDARD
END:VTIMEZONE
BEGIN:VEVENT
UID:407-180
DTSTAMP:20260424T145702Z
SUMMARY:福祉まつり
LOCATION:
ORGANIZER;CN=machif:MAILTO:machidukuri_fuchu@nifty.com
DTSTART;TZID=Asia/Tokyo;VALUE=DATE:20241006
DTEND;TZID=Asia/Tokyo;VALUE=DATE:20241007
X-ALT-DESC;FMTTYPE=TEXT/HTML:第44回福祉まつり（あったか府中
 ささえあいまつり）を開催いたします。 日時　令和６
 年１０月６日（日）　１０：０&amp;hellip\;
CATEGORIES:けやき並木通り,  府中スカイナード（府中駅ペ
 デストリアンデッキ）
URL;VALUE=URI:https://machidukuri-fuchu.jp/mc-events/%e7%a6%8f%e7%a5%89%e3%
 81%be%e3%81%a4%e3%82%8a/
METHOD:PUBLISH
END:VEVENT
END:VCALENDAR