BEGIN:VCALENDAR
VERSION:2.0
PRODID:spatie/icalendar-generator
DESCRIPTION:まちづくり府中のイベント
X-WR-CALDESC:まちづくり府中のイベント
REFRESH-INTERVAL;VALUE=DURATION:PT1440M
X-PUBLISHED-TTL:PT1440M
BEGIN:VTIMEZONE
TZID:Asia/Tokyo
BEGIN:STANDARD
DTSTART:20241005T000000Z
TZOFFSETFROM:+0900
TZOFFSETTO:+0900
END:STANDARD
END:VTIMEZONE
BEGIN:VTIMEZONE
TZID:UTC
BEGIN:STANDARD
DTSTART:20250726T153313Z
TZOFFSETFROM:+0000
TZOFFSETTO:+0000
END:STANDARD
END:VTIMEZONE
BEGIN:VEVENT
UID:498-266
DTSTAMP:20260422T153313Z
SUMMARY:東京競馬場花火2025 ～花火と聴きたい J-POP BEST～
LOCATION:
ORGANIZER;CN=machif:MAILTO:machidukuri_fuchu@nifty.com
DTSTART;TZID=Asia/Tokyo;VALUE=DATE:20250702
DTEND;TZID=Asia/Tokyo;VALUE=DATE:20250703
X-ALT-DESC;FMTTYPE=TEXT/HTML:<p>開催日：令和7年7月2日(水)<br />\n
 17時開場／19時30分開演／終演20時40分 花火終了予定<br />
 \n開催場所：東京競馬場（京王線 府中競馬正門前駅か
 ら徒歩約2分）</p>\n
CATEGORIES:その他
URL;VALUE=URI:https://machidukuri-fuchu.jp/mc-events/%e6%9d%b1%e4%ba%ac%e7%
 ab%b6%e9%a6%ac%e5%a0%b4%e8%8a%b1%e7%81%ab2025-%ef%bd%9e%e8%8a%b1%e7%81%ab%
 e3%81%a8%e8%81%b4%e3%81%8d%e3%81%9f%e3%81%84-j-pop-best%ef%bd%9e/
METHOD:PUBLISH
END:VEVENT
END:VCALENDAR