BEGIN:VCALENDAR
VERSION:2.0
PRODID:spatie/icalendar-generator
DESCRIPTION:まちづくり府中のイベント
X-WR-CALDESC:まちづくり府中のイベント
REFRESH-INTERVAL;VALUE=DURATION:PT1440M
X-PUBLISHED-TTL:PT1440M
BEGIN:VTIMEZONE
TZID:Asia/Tokyo
BEGIN:STANDARD
DTSTART:20240910T000000Z
TZOFFSETFROM:+0900
TZOFFSETTO:+0900
END:STANDARD
END:VTIMEZONE
BEGIN:VTIMEZONE
TZID:UTC
BEGIN:STANDARD
DTSTART:20250726T215404Z
TZOFFSETFROM:+0000
TZOFFSETTO:+0000
END:STANDARD
END:VTIMEZONE
BEGIN:VEVENT
UID:539-270
DTSTAMP:20260422T215404Z
SUMMARY:東芝ブレイブルーパス東京 優勝報告会
LOCATION:
ORGANIZER;CN=machif:MAILTO:machidukuri_fuchu@nifty.com
DTSTART;TZID=Asia/Tokyo;VALUE=DATE:20250607
DTEND;TZID=Asia/Tokyo;VALUE=DATE:20250608
X-ALT-DESC;FMTTYPE=TEXT/HTML:<p>東芝ブレイブルーパス東京の選
 手等によるパレードとトークショーを実施します。<br />\n・開催日時：6月7日（土）15:00～16:00（小雨決行）<br />\n・会場 けやき並木通り  ※交通規制 12:00～18:00（予定
 ）</p>\n
CATEGORIES:けやき並木通り
URL;VALUE=URI:https://machidukuri-fuchu.jp/mc-events/%e6%9d%b1%e8%8a%9d%e3%
 83%96%e3%83%ac%e3%82%a4%e3%83%96%e3%83%ab%e3%83%bc%e3%83%91%e3%82%b9%e6%9d
 %b1%e4%ba%ac-%e5%84%aa%e5%8b%9d%e5%a0%b1%e5%91%8a%e4%bc%9a-2/
METHOD:PUBLISH
END:VEVENT
END:VCALENDAR