BEGIN:VCALENDAR
VERSION:2.0
PRODID:spatie/icalendar-generator
DESCRIPTION:まちづくり府中のイベント
X-WR-CALDESC:まちづくり府中のイベント
REFRESH-INTERVAL;VALUE=DURATION:PT1440M
X-PUBLISHED-TTL:PT1440M
BEGIN:VTIMEZONE
TZID:Asia/Tokyo
BEGIN:STANDARD
DTSTART:20241016T000000Z
TZOFFSETFROM:+0900
TZOFFSETTO:+0900
END:STANDARD
END:VTIMEZONE
BEGIN:VTIMEZONE
TZID:UTC
BEGIN:STANDARD
DTSTART:20250727T211152Z
TZOFFSETFROM:+0000
TZOFFSETTO:+0000
END:STANDARD
END:VTIMEZONE
BEGIN:VEVENT
UID:560-294
DTSTAMP:20260423T211152Z
SUMMARY:THE ROAD RACE TOKYO TAMA 2025
LOCATION:
ORGANIZER;CN=machif:MAILTO:machidukuri_fuchu@nifty.com
DTSTART;TZID=Asia/Tokyo;VALUE=DATE:20250713
DTEND;TZID=Asia/Tokyo;VALUE=DATE:20250714
X-ALT-DESC;FMTTYPE=TEXT/HTML:<p>開催日：７月１３日（日）　け
 やき並木通り　他　交通規制あり<br />\n時間：ロードレ
 ース男子　７：３０　 START 武蔵野の森公園　　FINISH JR
 青梅駅前<br />\nお問い合わせ：info@trrtokyo.jp<br />\n主催：
  GRAND CYCLE TOKYO 実行委員会</p>\n
CATEGORIES:けやき並木通り,  その他
URL;VALUE=URI:https://machidukuri-fuchu.jp/mc-events/the-road-race-tokyo-ta
 ma-2025/
METHOD:PUBLISH
END:VEVENT
END:VCALENDAR