BEGIN:VCALENDAR
VERSION:2.0
PRODID:spatie/icalendar-generator
DESCRIPTION:まちづくり府中のイベント
X-WR-CALDESC:まちづくり府中のイベント
REFRESH-INTERVAL;VALUE=DURATION:PT1440M
X-PUBLISHED-TTL:PT1440M
BEGIN:VTIMEZONE
TZID:Asia/Tokyo
BEGIN:STANDARD
DTSTART:20241211T000000Z
TZOFFSETFROM:+0900
TZOFFSETTO:+0900
END:STANDARD
END:VTIMEZONE
BEGIN:VTIMEZONE
TZID:UTC
BEGIN:STANDARD
DTSTART:20250728T154001Z
TZOFFSETFROM:+0000
TZOFFSETTO:+0000
END:STANDARD
END:VTIMEZONE
BEGIN:VEVENT
UID:578-308
DTSTAMP:20260424T154001Z
SUMMARY:府中市総合防災訓練・消防防災チャレンジ2025
LOCATION:
ORGANIZER;CN=machif:MAILTO:machidukuri_fuchu@nifty.com
DTSTART;TZID=Asia/Tokyo;VALUE=DATE:20250907
DTEND;TZID=Asia/Tokyo;VALUE=DATE:20250908
X-ALT-DESC;FMTTYPE=TEXT/HTML:子どもから大人まで楽しみながら
 学べる防災・救急イベントです。 防災関係機関と連携
 し、さまざまな体験コーナーや展&amp;hellip\;
CATEGORIES:けやき並木通り
URL;VALUE=URI:https://machidukuri-fuchu.jp/mc-events/%e5%ba%9c%e4%b8%ad%e5%
 b8%82%e7%b7%8f%e5%90%88%e9%98%b2%e7%81%bd%e8%a8%93%e7%b7%b4%e3%83%bb%e6%b6
 %88%e9%98%b2%e9%98%b2%e7%81%bd%e3%83%81%e3%83%a3%e3%83%ac%e3%83%b3%e3%82%b
 82025/
METHOD:PUBLISH
END:VEVENT
END:VCALENDAR