BEGIN:VCALENDAR
VERSION:2.0
PRODID:spatie/icalendar-generator
DESCRIPTION:まちづくり府中のイベント
X-WR-CALDESC:まちづくり府中のイベント
REFRESH-INTERVAL;VALUE=DURATION:PT1440M
X-PUBLISHED-TTL:PT1440M
BEGIN:VTIMEZONE
TZID:Asia/Tokyo
BEGIN:STANDARD
DTSTART:20250115T000000Z
TZOFFSETFROM:+0900
TZOFFSETTO:+0900
END:STANDARD
END:VTIMEZONE
BEGIN:VTIMEZONE
TZID:UTC
BEGIN:STANDARD
DTSTART:20250729T110133Z
TZOFFSETFROM:+0000
TZOFFSETTO:+0000
END:STANDARD
END:VTIMEZONE
BEGIN:VEVENT
UID:596-323
DTSTAMP:20260425T110133Z
SUMMARY:FUCHU ART PARADE 2025
LOCATION:
ORGANIZER;CN=machif:MAILTO:machidukuri_fuchu@nifty.com
DTSTART;TZID=Asia/Tokyo;VALUE=DATE:20251012
DTEND;TZID=Asia/Tokyo;VALUE=DATE:20251013
X-ALT-DESC;FMTTYPE=TEXT/HTML:けやきの木漏れ日の中、“ピクニ
 ックシアター” がはじまります。 ドキドキするお芝居
 をみたり、一緒に歌ったり踊っ&amp;hellip\;
CATEGORIES:けやき並木通り
URL;VALUE=URI:https://machidukuri-fuchu.jp/mc-events/fuchu-art-parade-2025/
METHOD:PUBLISH
END:VEVENT
END:VCALENDAR