BEGIN:VCALENDAR
VERSION:2.0
PRODID:spatie/icalendar-generator
DESCRIPTION:まちづくり府中のイベント
X-WR-CALDESC:まちづくり府中のイベント
REFRESH-INTERVAL;VALUE=DURATION:PT1440M
X-PUBLISHED-TTL:PT1440M
BEGIN:VTIMEZONE
TZID:Asia/Tokyo
BEGIN:STANDARD
DTSTART:20250129T000000Z
TZOFFSETFROM:+0900
TZOFFSETTO:+0900
END:STANDARD
END:VTIMEZONE
BEGIN:VTIMEZONE
TZID:UTC
BEGIN:STANDARD
DTSTART:20250729T140106Z
TZOFFSETFROM:+0000
TZOFFSETTO:+0000
END:STANDARD
END:VTIMEZONE
BEGIN:VEVENT
UID:598-325
DTSTAMP:20260425T140106Z
SUMMARY:けやき音楽祭 2025 JAZZ in FUCHU
LOCATION:
ORGANIZER;CN=machif:MAILTO:machidukuri_fuchu@nifty.com
DTSTART;TZID=Asia/Tokyo;VALUE=DATE:20251026
DTEND;TZID=Asia/Tokyo;VALUE=DATE:20251027
X-ALT-DESC;FMTTYPE=TEXT/HTML:開催概要 けやき音楽祭 2025 JAZZ in F
 UCHU 日時：令和7年10月26日(日) 11時～20時&amp;hellip\;
CATEGORIES:けやき並木通り
URL;VALUE=URI:https://machidukuri-fuchu.jp/mc-events/%e3%81%91%e3%82%84%e3%
 81%8d%e9%9f%b3%e6%a5%bd%e7%a5%ad-2025-jazz-in-fuchu/
METHOD:PUBLISH
END:VEVENT
END:VCALENDAR