BEGIN:VCALENDAR
VERSION:2.0
PRODID:spatie/icalendar-generator
DESCRIPTION:まちづくり府中のイベント
X-WR-CALDESC:まちづくり府中のイベント
REFRESH-INTERVAL;VALUE=DURATION:PT1440M
X-PUBLISHED-TTL:PT1440M
BEGIN:VTIMEZONE
TZID:Asia/Tokyo
BEGIN:STANDARD
DTSTART:20180314T110000Z
TZOFFSETFROM:+0900
TZOFFSETTO:+0900
END:STANDARD
END:VTIMEZONE
BEGIN:VTIMEZONE
TZID:UTC
BEGIN:STANDARD
DTSTART:20250729T185621Z
TZOFFSETFROM:+0000
TZOFFSETTO:+0000
END:STANDARD
END:VTIMEZONE
BEGIN:VEVENT
UID:320-111
DTSTAMP:20260425T185621Z
SUMMARY:サイクリングフェスティバル2018 in けやき並木通
 り
LOCATION:
ORGANIZER;CN=machif:MAILTO:machidukuri_fuchu@nifty.com
DTSTART;TZID=Asia/Tokyo:20181209T110000
DTEND;TZID=Asia/Tokyo:20181209T150000
X-ALT-DESC;FMTTYPE=TEXT/HTML:
CATEGORIES:けやき並木通り
URL;VALUE=URI:https://machidukuri-fuchu.jp/mc-events/%e3%82%b5%e3%82%a4%e3%
 82%af%e3%83%aa%e3%83%b3%e3%82%b0%e3%83%95%e3%82%a7%e3%82%b9%e3%83%86%e3%82
 %a3%e3%83%90%e3%83%ab2018-in-%e3%81%91%e3%82%84%e3%81%8d%e4%b8%a6%e6%9c%a8
 %e9%80%9a%e3%82%8a/
METHOD:PUBLISH
END:VEVENT
END:VCALENDAR