BEGIN:VCALENDAR
VERSION:2.0
PRODID:spatie/icalendar-generator
DESCRIPTION:まちづくり府中のイベント
X-WR-CALDESC:まちづくり府中のイベント
REFRESH-INTERVAL;VALUE=DURATION:PT1440M
X-PUBLISHED-TTL:PT1440M
BEGIN:VTIMEZONE
TZID:Asia/Tokyo
BEGIN:STANDARD
DTSTART:20180916T190000Z
TZOFFSETFROM:+0900
TZOFFSETTO:+0900
END:STANDARD
END:VTIMEZONE
BEGIN:VTIMEZONE
TZID:UTC
BEGIN:STANDARD
DTSTART:20250730T034755Z
TZOFFSETFROM:+0000
TZOFFSETTO:+0000
END:STANDARD
END:VTIMEZONE
BEGIN:VEVENT
UID:325-116
DTSTAMP:20260426T034755Z
SUMMARY:「ラグビーワールドカップ2019開催100日前記念フォ
 ーラムin府中」観覧募集
LOCATION:
ORGANIZER;CN=machif:MAILTO:machidukuri_fuchu@nifty.com
DTSTART;TZID=Asia/Tokyo:20190613T190000
DTEND;TZID=Asia/Tokyo:20190613T210000
X-ALT-DESC;FMTTYPE=TEXT/HTML:
CATEGORIES:けやき並木通り
URL;VALUE=URI:https://machidukuri-fuchu.jp/mc-events/%e3%80%8c%e3%83%a9%e3%
 82%b0%e3%83%93%e3%83%bc%e3%83%af%e3%83%bc%e3%83%ab%e3%83%89%e3%82%ab%e3%83
 %83%e3%83%972019%e9%96%8b%e5%82%ac100%e6%97%a5%e5%89%8d%e8%a8%98%e5%bf%b5%
 e3%83%95%e3%82%a9%e3%83%bc/
METHOD:PUBLISH
END:VEVENT
END:VCALENDAR