BEGIN:VCALENDAR
VERSION:2.0
PRODID:spatie/icalendar-generator
DESCRIPTION:まちづくり府中のイベント
X-WR-CALDESC:まちづくり府中のイベント
REFRESH-INTERVAL;VALUE=DURATION:PT1440M
X-PUBLISHED-TTL:PT1440M
BEGIN:VTIMEZONE
TZID:Asia/Tokyo
BEGIN:STANDARD
DTSTART:20181115T100000Z
TZOFFSETFROM:+0900
TZOFFSETTO:+0900
END:STANDARD
END:VTIMEZONE
BEGIN:VTIMEZONE
TZID:UTC
BEGIN:STANDARD
DTSTART:20250729T165238Z
TZOFFSETFROM:+0000
TZOFFSETTO:+0000
END:STANDARD
END:VTIMEZONE
BEGIN:VEVENT
UID:334-125
DTSTAMP:20260425T165238Z
SUMMARY:スポGOMI大会 in 府中
LOCATION:
ORGANIZER;CN=machif:MAILTO:machidukuri_fuchu@nifty.com
DTSTART;TZID=Asia/Tokyo:20190812T100000
DTEND;TZID=Asia/Tokyo:20190812T130000
X-ALT-DESC;FMTTYPE=TEXT/HTML:
CATEGORIES:けやき並木通り
URL;VALUE=URI:https://machidukuri-fuchu.jp/mc-events/%e3%82%b9%e3%83%9dgomi
 %e5%a4%a7%e4%bc%9a-in-%e5%ba%9c%e4%b8%ad/
METHOD:PUBLISH
END:VEVENT
END:VCALENDAR