BEGIN:VCALENDAR
VERSION:2.0
PRODID:spatie/icalendar-generator
DESCRIPTION:まちづくり府中のイベント
X-WR-CALDESC:まちづくり府中のイベント
REFRESH-INTERVAL;VALUE=DURATION:PT1440M
X-PUBLISHED-TTL:PT1440M
BEGIN:VTIMEZONE
TZID:Asia/Tokyo
BEGIN:STANDARD
DTSTART:20181106T180000Z
TZOFFSETFROM:+0900
TZOFFSETTO:+0900
END:STANDARD
END:VTIMEZONE
BEGIN:VTIMEZONE
TZID:UTC
BEGIN:STANDARD
DTSTART:20250729T152404Z
TZOFFSETFROM:+0000
TZOFFSETTO:+0000
END:STANDARD
END:VTIMEZONE
BEGIN:VEVENT
UID:335-126
DTSTAMP:20260425T152404Z
SUMMARY:ラグビー 日本代表vsトンガ代表 パブリックビュー
 イング
LOCATION:
ORGANIZER;CN=machif:MAILTO:machidukuri_fuchu@nifty.com
DTSTART;TZID=Asia/Tokyo:20190803T180000
DTEND;TZID=Asia/Tokyo:20190803T190000
X-ALT-DESC;FMTTYPE=TEXT/HTML:
CATEGORIES:けやき並木通り
URL;VALUE=URI:https://machidukuri-fuchu.jp/mc-events/%e3%83%a9%e3%82%b0%e3%
 83%93%e3%83%bc-%e6%97%a5%e6%9c%ac%e4%bb%a3%e8%a1%a8vs%e3%83%88%e3%83%b3%e3
 %82%ac%e4%bb%a3%e8%a1%a8-%e3%83%91%e3%83%96%e3%83%aa%e3%83%83%e3%82%af%e3%
 83%93%e3%83%a5%e3%83%bc/
METHOD:PUBLISH
END:VEVENT
END:VCALENDAR