BEGIN:VCALENDAR
VERSION:2.0
PRODID:spatie/icalendar-generator
DESCRIPTION:まちづくり府中のイベント
X-WR-CALDESC:まちづくり府中のイベント
REFRESH-INTERVAL;VALUE=DURATION:PT1440M
X-PUBLISHED-TTL:PT1440M
BEGIN:VTIMEZONE
TZID:Asia/Tokyo
BEGIN:STANDARD
DTSTART:20190218T000000Z
TZOFFSETFROM:+0900
TZOFFSETTO:+0900
END:STANDARD
END:VTIMEZONE
BEGIN:VTIMEZONE
TZID:UTC
BEGIN:STANDARD
DTSTART:20250726T013651Z
TZOFFSETFROM:+0000
TZOFFSETTO:+0000
END:STANDARD
END:VTIMEZONE
BEGIN:VEVENT
UID:350-141
DTSTAMP:20260422T013651Z
SUMMARY:大國魂神社 七五三詣
LOCATION:
ORGANIZER;CN=machif:MAILTO:machidukuri_fuchu@nifty.com
DTSTART;TZID=Asia/Tokyo;VALUE=DATE:20191115
DTEND;TZID=Asia/Tokyo;VALUE=DATE:20191116
X-ALT-DESC;FMTTYPE=TEXT/HTML:
CATEGORIES:けやき並木通り
URL;VALUE=URI:https://machidukuri-fuchu.jp/mc-events/%e5%a4%a7%e5%9c%8b%e9%
 ad%82%e7%a5%9e%e7%a4%be-%e4%b8%83%e4%ba%94%e4%b8%89%e8%a9%a3/
METHOD:PUBLISH
END:VEVENT
END:VCALENDAR