BEGIN:VCALENDAR
VERSION:2.0
PRODID:spatie/icalendar-generator
DESCRIPTION:まちづくり府中のイベント
X-WR-CALDESC:まちづくり府中のイベント
REFRESH-INTERVAL;VALUE=DURATION:PT1440M
X-PUBLISHED-TTL:PT1440M
BEGIN:VTIMEZONE
TZID:Asia/Tokyo
BEGIN:STANDARD
DTSTART:20240828T000000Z
TZOFFSETFROM:+0900
TZOFFSETTO:+0900
END:STANDARD
END:VTIMEZONE
BEGIN:VTIMEZONE
TZID:UTC
BEGIN:STANDARD
DTSTART:20250726T103815Z
TZOFFSETFROM:+0000
TZOFFSETTO:+0000
END:STANDARD
END:VTIMEZONE
BEGIN:VEVENT
UID:496-264
DTSTAMP:20260422T103815Z
SUMMARY:御殿地 Jazz Live 2025
LOCATION:
ORGANIZER;CN=machif:MAILTO:machidukuri_fuchu@nifty.com
DTSTART;TZID=Asia/Tokyo;VALUE=DATE:20250525
DTEND;TZID=Asia/Tokyo;VALUE=DATE:20250526
X-ALT-DESC;FMTTYPE=TEXT/HTML:
CATEGORIES:その他
URL;VALUE=URI:https://machidukuri-fuchu.jp/mc-events/%e5%be%a1%e6%ae%bf%e5%
 9c%b0-jazz-live-2025/
METHOD:PUBLISH
END:VEVENT
END:VCALENDAR