BEGIN:VCALENDAR
VERSION:2.0
PRODID:spatie/icalendar-generator
DESCRIPTION:まちづくり府中のイベント
X-WR-CALDESC:まちづくり府中のイベント
REFRESH-INTERVAL;VALUE=DURATION:PT1440M
X-PUBLISHED-TTL:PT1440M
BEGIN:VTIMEZONE
TZID:Asia/Tokyo
BEGIN:STANDARD
DTSTART:20241004T000000Z
TZOFFSETFROM:+0900
TZOFFSETTO:+0900
END:STANDARD
END:VTIMEZONE
BEGIN:VTIMEZONE
TZID:UTC
BEGIN:STANDARD
DTSTART:20250726T184351Z
TZOFFSETFROM:+0000
TZOFFSETTO:+0000
END:STANDARD
END:VTIMEZONE
BEGIN:VEVENT
UID:541-269
DTSTAMP:20260422T184351Z
SUMMARY:第7回 むさし府中まちバル
LOCATION:
ORGANIZER;CN=machif:MAILTO:machidukuri_fuchu@nifty.com
DTSTART;TZID=Asia/Tokyo;VALUE=DATE:20250701
DTEND;TZID=Asia/Tokyo;VALUE=DATE:20250714
X-ALT-DESC;FMTTYPE=TEXT/HTML:<p>府中のまちなかで食べ歩きを楽
 しもう！専用チケットで特別なメニューで楽しめる回
 遊型の街歩き飲食イベントです♪<br />\n・開催日時：7
 月1日（火）～13日（日）<br />\n・開催エリア：京王線府
 中駅・JR 府中本町駅周辺<br />\n・チケット：前売り券3\,
 500円（ 4枚つづり）　当日券4\,000円（ 4枚つづり）</p>\n
CATEGORIES:商業施設・商店街
URL;VALUE=URI:https://machidukuri-fuchu.jp/mc-events/%e7%ac%ac7%e5%9b%9e-%e
 3%82%80%e3%81%95%e3%81%97%e5%ba%9c%e4%b8%ad%e3%81%be%e3%81%a1%e3%83%90%e3%
 83%ab/
METHOD:PUBLISH
END:VEVENT
END:VCALENDAR