BEGIN:VCALENDAR
VERSION:2.0
PRODID:spatie/icalendar-generator
DESCRIPTION:まちづくり府中のイベント
X-WR-CALDESC:まちづくり府中のイベント
REFRESH-INTERVAL;VALUE=DURATION:PT1440M
X-PUBLISHED-TTL:PT1440M
BEGIN:VTIMEZONE
TZID:Asia/Tokyo
BEGIN:STANDARD
DTSTART:20241028T000000Z
TZOFFSETFROM:+0900
TZOFFSETTO:+0900
END:STANDARD
END:VTIMEZONE
BEGIN:VTIMEZONE
TZID:UTC
BEGIN:STANDARD
DTSTART:20250727T211735Z
TZOFFSETFROM:+0000
TZOFFSETTO:+0000
END:STANDARD
END:VTIMEZONE
BEGIN:VEVENT
UID:564-295
DTSTAMP:20260423T211735Z
SUMMARY:「しごとバー府中」
LOCATION:
ORGANIZER;CN=machif:MAILTO:machidukuri_fuchu@nifty.com
DTSTART;TZID=Asia/Tokyo;VALUE=DATE:20250725
DTEND;TZID=Asia/Tokyo;VALUE=DATE:20250726
X-ALT-DESC;FMTTYPE=TEXT/HTML:<p>地域&amp;amp\;仕事がキーワードの対
 話イベント「しごとバー府中」<br />\nさまざまな生き方
 、働き方を実践しているゲストと、ドリンクを飲みな
 がら一緒に会話するイベントを開催します。<br />\n・開
 催日時：2025年7月25日（金）19:00～20:30 <br />\n・会場：
 ル・シーニュ5F オレンジブーツ （京王線 府中駅直結
 ）<br />\n・参加費（税込）：1\,000円（ソフトドリンク付
 ）／1\,200円（アルコールドリンク付）<br />\n・参加申込
 ：7月1日12:00より、下記teketからお申し込みください<br />\nhttps://teket.jp/14324/51175</p>\n
CATEGORIES:その他
URL;VALUE=URI:https://machidukuri-fuchu.jp/mc-events/%e3%80%8c%e3%81%97%e3%
 81%94%e3%81%a8%e3%83%90%e3%83%bc%e5%ba%9c%e4%b8%ad%e3%80%8d/
METHOD:PUBLISH
END:VEVENT
END:VCALENDAR