BEGIN:VCALENDAR
VERSION:2.0
PRODID:spatie/icalendar-generator
DESCRIPTION:まちづくり府中のイベント
X-WR-CALDESC:まちづくり府中のイベント
REFRESH-INTERVAL;VALUE=DURATION:PT1440M
X-PUBLISHED-TTL:PT1440M
BEGIN:VTIMEZONE
TZID:Asia/Tokyo
BEGIN:STANDARD
DTSTART:20241218T000000Z
TZOFFSETFROM:+0900
TZOFFSETTO:+0900
END:STANDARD
END:VTIMEZONE
BEGIN:VTIMEZONE
TZID:UTC
BEGIN:STANDARD
DTSTART:20250728T152513Z
TZOFFSETFROM:+0000
TZOFFSETTO:+0000
END:STANDARD
END:VTIMEZONE
BEGIN:VEVENT
UID:579-309
DTSTAMP:20260424T152513Z
SUMMARY:FUCHU BEER GARDEN 2025
LOCATION:
ORGANIZER;CN=machif:MAILTO:machidukuri_fuchu@nifty.com
DTSTART;TZID=Asia/Tokyo;VALUE=DATE:20250914
DTEND;TZID=Asia/Tokyo;VALUE=DATE:20250915
X-ALT-DESC;FMTTYPE=TEXT/HTML:冷たいビールでカンパイ！ 今年も
 開催！府中で1日限りのビアガーデン！ 各地からこだわ
 りのクラフトビールが大集合&amp;hellip\;
CATEGORIES:けやき並木通り
URL;VALUE=URI:https://machidukuri-fuchu.jp/mc-events/fuchu-beer-garden-2025
 /
METHOD:PUBLISH
END:VEVENT
END:VCALENDAR