BEGIN:VCALENDAR
VERSION:2.0
PRODID:spatie/icalendar-generator
DESCRIPTION:まちづくり府中のイベント
X-WR-CALDESC:まちづくり府中のイベント
REFRESH-INTERVAL;VALUE=DURATION:PT1440M
X-PUBLISHED-TTL:PT1440M
BEGIN:VTIMEZONE
TZID:Asia/Tokyo
BEGIN:STANDARD
DTSTART:20241231T000000Z
TZOFFSETFROM:+0900
TZOFFSETTO:+0900
END:STANDARD
END:VTIMEZONE
BEGIN:VTIMEZONE
TZID:UTC
BEGIN:STANDARD
DTSTART:20250728T170310Z
TZOFFSETFROM:+0000
TZOFFSETTO:+0000
END:STANDARD
END:VTIMEZONE
BEGIN:VEVENT
UID:580-310
DTSTAMP:20260424T170310Z
SUMMARY:秋季祭くり祭
LOCATION:
ORGANIZER;CN=machif:MAILTO:machidukuri_fuchu@nifty.com
DTSTART;TZID=Asia/Tokyo;VALUE=DATE:20250927
DTEND;TZID=Asia/Tokyo;VALUE=DATE:20250929
X-ALT-DESC;FMTTYPE=TEXT/HTML:9月27日は宵祭り、28日が本祭りと
 なっています。 参道では栗が売られるほか、行灯の灯
 りが列をなし、幻想的な光&amp;hellip\;
CATEGORIES:大國魂神社
URL;VALUE=URI:https://machidukuri-fuchu.jp/mc-events/%e7%a7%8b%e5%ad%a3%e7%
 a5%ad%e3%81%8f%e3%82%8a%e7%a5%ad-2/
METHOD:PUBLISH
END:VEVENT
END:VCALENDAR