BEGIN:VCALENDAR
VERSION:2.0
PRODID:spatie/icalendar-generator
DESCRIPTION:まちづくり府中のイベント
X-WR-CALDESC:まちづくり府中のイベント
REFRESH-INTERVAL;VALUE=DURATION:PT1440M
X-PUBLISHED-TTL:PT1440M
BEGIN:VTIMEZONE
TZID:Asia/Tokyo
BEGIN:STANDARD
DTSTART:20241230T000000Z
TZOFFSETFROM:+0900
TZOFFSETTO:+0900
END:STANDARD
END:VTIMEZONE
BEGIN:VTIMEZONE
TZID:UTC
BEGIN:STANDARD
DTSTART:20250728T183716Z
TZOFFSETFROM:+0000
TZOFFSETTO:+0000
END:STANDARD
END:VTIMEZONE
BEGIN:VEVENT
UID:583-311
DTSTAMP:20260424T183716Z
SUMMARY:しごとバー府中
LOCATION:
ORGANIZER;CN=machif:MAILTO:machidukuri_fuchu@nifty.com
DTSTART;TZID=Asia/Tokyo;VALUE=DATE:20250926
DTEND;TZID=Asia/Tokyo;VALUE=DATE:20250927
X-ALT-DESC;FMTTYPE=TEXT/HTML:地域&amp;amp\;仕事がキーワードの対話
 イベント「しごとバー府中」 さまざまな生き方、働き
 方を実践しているゲストと&amp;hellip\;
CATEGORIES:商業施設・商店街
URL;VALUE=URI:https://machidukuri-fuchu.jp/mc-events/%e3%81%97%e3%81%94%e3%
 81%a8%e3%83%90%e3%83%bc%e5%ba%9c%e4%b8%ad/
METHOD:PUBLISH
END:VEVENT
END:VCALENDAR