BEGIN:VCALENDAR
VERSION:2.0
PRODID:spatie/icalendar-generator
DESCRIPTION:まちづくり府中のイベント
X-WR-CALDESC:まちづくり府中のイベント
REFRESH-INTERVAL;VALUE=DURATION:PT1440M
X-PUBLISHED-TTL:PT1440M
BEGIN:VTIMEZONE
TZID:Asia/Tokyo
BEGIN:STANDARD
DTSTART:20250108T000000Z
TZOFFSETFROM:+0900
TZOFFSETTO:+0900
END:STANDARD
END:VTIMEZONE
BEGIN:VTIMEZONE
TZID:UTC
BEGIN:STANDARD
DTSTART:20250729T140436Z
TZOFFSETFROM:+0000
TZOFFSETTO:+0000
END:STANDARD
END:VTIMEZONE
BEGIN:VEVENT
UID:599-326
DTSTAMP:20260425T140436Z
SUMMARY:府中環境まつり2025
LOCATION:
ORGANIZER;CN=machif:MAILTO:machidukuri_fuchu@nifty.com
DTSTART;TZID=Asia/Tokyo;VALUE=DATE:20251005
DTEND;TZID=Asia/Tokyo;VALUE=DATE:20251006
X-ALT-DESC;FMTTYPE=TEXT/HTML:開催概要 府中環境まつり2025 日時
 ：令和7年10月5日(日) 11時～16時 場所：けやき並木通り
 （府中市&amp;hellip\;
CATEGORIES:けやき並木通り
URL;VALUE=URI:https://machidukuri-fuchu.jp/mc-events/%e5%ba%9c%e4%b8%ad%e7%
 92%b0%e5%a2%83%e3%81%be%e3%81%a4%e3%82%8a2025/
METHOD:PUBLISH
END:VEVENT
END:VCALENDAR