BEGIN:VCALENDAR
VERSION:2.0
PRODID:spatie/icalendar-generator
DESCRIPTION:まちづくり府中のイベント
X-WR-CALDESC:まちづくり府中のイベント
REFRESH-INTERVAL;VALUE=DURATION:PT1440M
X-PUBLISHED-TTL:PT1440M
BEGIN:VTIMEZONE
TZID:Asia/Tokyo
BEGIN:STANDARD
DTSTART:20250122T120000Z
TZOFFSETFROM:+0900
TZOFFSETTO:+0900
END:STANDARD
END:VTIMEZONE
BEGIN:VTIMEZONE
TZID:UTC
BEGIN:STANDARD
DTSTART:20250729T154024Z
TZOFFSETFROM:+0000
TZOFFSETTO:+0000
END:STANDARD
END:VTIMEZONE
BEGIN:VEVENT
UID:602-327
DTSTAMP:20260425T154024Z
SUMMARY:ストリートテラス
LOCATION:
ORGANIZER;CN=machif:MAILTO:machidukuri_fuchu@nifty.com
DTSTART;TZID=Asia/Tokyo:20251019T120000
DTEND;TZID=Asia/Tokyo:20251019T170000
X-ALT-DESC;FMTTYPE=TEXT/HTML:
CATEGORIES:商業施設・商店街
URL;VALUE=URI:https://machidukuri-fuchu.jp/mc-events/%e3%82%b9%e3%83%88%e3%
 83%aa%e3%83%bc%e3%83%88%e3%83%86%e3%83%a9%e3%82%b9-23/
METHOD:PUBLISH
END:VEVENT
END:VCALENDAR