BEGIN:VCALENDAR
VERSION:2.0
PRODID:spatie/icalendar-generator
DESCRIPTION:まちづくり府中のイベント
X-WR-CALDESC:まちづくり府中のイベント
REFRESH-INTERVAL;VALUE=DURATION:PT1440M
X-PUBLISHED-TTL:PT1440M
BEGIN:VTIMEZONE
TZID:Asia/Tokyo
BEGIN:STANDARD
DTSTART:20170517T090000Z
TZOFFSETFROM:+0900
TZOFFSETTO:+0900
END:STANDARD
END:VTIMEZONE
BEGIN:VTIMEZONE
TZID:UTC
BEGIN:STANDARD
DTSTART:20250726T074429Z
TZOFFSETFROM:+0000
TZOFFSETTO:+0000
END:STANDARD
END:VTIMEZONE
BEGIN:VEVENT
UID:67-50
DTSTAMP:20260422T074429Z
SUMMARY:府中駅伝競走大会
LOCATION:
ORGANIZER;CN=machif:MAILTO:machidukuri_fuchu@nifty.com
DTSTART;TZID=Asia/Tokyo:20180211T090000
DTEND;TZID=Asia/Tokyo:20180211T130000
X-ALT-DESC;FMTTYPE=TEXT/HTML:
CATEGORIES:けやき並木通り
URL;VALUE=URI:https://machidukuri-fuchu.jp/mc-events/%e5%ba%9c%e4%b8%ad%e9%
 a7%85%e4%bc%9d%e7%ab%b6%e8%b5%b0%e5%a4%a7%e4%bc%9a/
METHOD:PUBLISH
END:VEVENT
END:VCALENDAR