BEGIN:VCALENDAR
VERSION:2.0
PRODID:spatie/icalendar-generator
DESCRIPTION:まちづくり府中のイベント
X-WR-CALDESC:まちづくり府中のイベント
REFRESH-INTERVAL;VALUE=DURATION:PT1440M
X-PUBLISHED-TTL:PT1440M
BEGIN:VTIMEZONE
TZID:Asia/Tokyo
BEGIN:STANDARD
DTSTART:20170624T220000Z
TZOFFSETFROM:+0900
TZOFFSETTO:+0900
END:STANDARD
END:VTIMEZONE
BEGIN:VTIMEZONE
TZID:UTC
BEGIN:STANDARD
DTSTART:20250726T074854Z
TZOFFSETFROM:+0000
TZOFFSETTO:+0000
END:STANDARD
END:VTIMEZONE
BEGIN:VEVENT
UID:69-52
DTSTAMP:20260422T074854Z
SUMMARY:第11回武蔵国 府中けやきカップ＆第6回けやきキッ
 ズ団体戦
LOCATION:
ORGANIZER;CN=machif:MAILTO:machidukuri_fuchu@nifty.com
DTSTART;TZID=Asia/Tokyo:20180321T220000
DTEND;TZID=Asia/Tokyo:20180321T230000
X-ALT-DESC;FMTTYPE=TEXT/HTML:
CATEGORIES:けやき並木通り
URL;VALUE=URI:https://machidukuri-fuchu.jp/mc-events/%e7%ac%ac11%e5%9b%9e%e
 6%ad%a6%e8%94%b5%e5%9b%bd-%e5%ba%9c%e4%b8%ad%e3%81%91%e3%82%84%e3%81%8d%e3
 %82%ab%e3%83%83%e3%83%97%ef%bc%86%e7%ac%ac6%e5%9b%9e%e3%81%91%e3%82%84%e3%
 81%8d%e3%82%ad%e3%83%83/
METHOD:PUBLISH
END:VEVENT
END:VCALENDAR