BEGIN:VCALENDAR
VERSION:2.0
PRODID:spatie/icalendar-generator
DESCRIPTION:まちづくり府中のイベント
X-WR-CALDESC:まちづくり府中のイベント
REFRESH-INTERVAL;VALUE=DURATION:PT1440M
X-PUBLISHED-TTL:PT1440M
BEGIN:VTIMEZONE
TZID:Asia/Tokyo
BEGIN:STANDARD
DTSTART:20250902T110000Z
TZOFFSETFROM:+0900
TZOFFSETTO:+0900
END:STANDARD
END:VTIMEZONE
BEGIN:VTIMEZONE
TZID:UTC
BEGIN:STANDARD
DTSTART:20250726T173851Z
TZOFFSETFROM:+0000
TZOFFSETTO:+0000
END:STANDARD
END:VTIMEZONE
BEGIN:VEVENT
UID:697-398
DTSTAMP:20260422T173851Z
SUMMARY:むさし府中ビール祭り
LOCATION:
ORGANIZER;CN=machif:MAILTO:machidukuri_fuchu@nifty.com
DTSTART;TZID=Asia/Tokyo:20260530T110000
DTEND;TZID=Asia/Tokyo:20260530T170000
X-ALT-DESC;FMTTYPE=TEXT/HTML:
CATEGORIES:大國魂神社
URL;VALUE=URI:https://machidukuri-fuchu.jp/mc-events/%e3%82%80%e3%81%95%e3%
 81%97%e5%ba%9c%e4%b8%ad%e3%83%93%e3%83%bc%e3%83%ab%e7%a5%ad%e3%82%8a-3/
METHOD:PUBLISH
END:VEVENT
END:VCALENDAR